BEGIN:VCALENDAR
VERSION:2.0
PRODID:-//Fencing news - ECPv6.15.20//NONSGML v1.0//EN
CALSCALE:GREGORIAN
METHOD:PUBLISH
X-WR-CALNAME:Fencing news
X-ORIGINAL-URL:http://mszag.com/news
X-WR-CALDESC:Events for Fencing news
REFRESH-INTERVAL;VALUE=DURATION:PT1H
X-Robots-Tag:noindex
X-PUBLISHED-TTL:PT1H
BEGIN:VTIMEZONE
TZID:UTC
BEGIN:STANDARD
TZOFFSETFROM:+0000
TZOFFSETTO:+0000
TZNAME:UTC
DTSTART:20150101T000000
END:STANDARD
END:VTIMEZONE
BEGIN:VEVENT
DTSTART;VALUE=DATE:20170325
DTEND;VALUE=DATE:20170326
DTSTAMP:20260420T044946
CREATED:20170225T202307Z
LAST-MODIFIED:20170225T202307Z
UID:1221-1490400000-1490486399@mszag.com
SUMMARY:2. KUP GRADA OSIJEKA 2017 / 2nd Osijek Fencing Cup 2017 - Mač / Epee - 25.03.2017
DESCRIPTION:Međunarodni turnir u maču 2. Kup grada Osijeka održati će se u Osijeku 25.03.2017 \nInternational epee tournament 2nd Osijek fencing cup will be held in Osijek on 25th of March 2017. \nInvitation for 2. KUP GRADA OSIJEKA 2017 / 2nd Osijek Fencing Cup 2017 
URL:http://mszag.com/news/event/2-kup-grada-osijeka-2017-2nd-osijek-fencing-cup-2017-mac-epee-25-03-2017/
LOCATION:Sportska dvorana JUG\, Kralja Petra Svačića bb\, Osijek\, 31000\, Croatia (Local Name: Hrvatska)
CATEGORIES:Croatian / Hrvatski,EFC-U14,Epee / Mač
ATTACH;FMTTYPE=image/png:http://mszag.com/news/wp-content/uploads/2017/02/mkdzo.png
ORGANIZER;CN="MA%C4%8CEVALA%C4%8CKI KLUB %E2%80%93 FENCING CLUB Dmitar Zvonimir Osijek":MAILTO:d.zvonimir.os@gmail.com
END:VEVENT
BEGIN:VEVENT
DTSTART;VALUE=DATE:20170321
DTEND;VALUE=DATE:20170322
DTSTAMP:20260420T044946
CREATED:20161117T151257Z
LAST-MODIFIED:20161117T151257Z
UID:1067-1490054400-1490140799@mszag.com
SUMMARY:6. kolo Zagrebačke lige u velikom maču
DESCRIPTION:U dvorani na zagrebačkom Velesajmu 21.03.2017. održati će se 6. kolo Zagrebačke lige u velikom maču. \nPrijave : 19:30 \nBrisanje: 19:45 \nPočetak: 20:00 \nPrijavnina je 25\,00 kn.
URL:http://mszag.com/news/event/6-kolo-zagrebacke-lige-u-velikom-macu/
LOCATION:Mačevalački centar MSZ-a Zagrebački Velesajam\, paviljon 25\, Avenija Dubrovnik 15\, Zagreb\, 10000\, Croatia (Local Name: Hrvatska)
CATEGORIES:Croatian / Hrvatski,Epee / Mač,Liga veliki mač MSZ
ATTACH;FMTTYPE=image/png:http://mszag.com/news/wp-content/uploads/2016/11/mszaglogo.png
END:VEVENT
BEGIN:VEVENT
DTSTART;VALUE=DATE:20170314
DTEND;VALUE=DATE:20170315
DTSTAMP:20260420T044946
CREATED:20161117T155417Z
LAST-MODIFIED:20170313T135841Z
UID:1078-1489449600-1489535999@mszag.com
SUMMARY:4. kolo Zagrebačke lige u velikom floretu - OTKAZANO
DESCRIPTION:OTKAZANO!\nU dvorani na zagrebačkom Velesajmu 14.03.2017. održati će se 4. kolo Zagrebačke lige u velikom floretu. \nPrijave : 19:30 \nBrisanje: 19:45 \nPočetak: 20:00 \nPrijavnina je 25\,00 kn.
URL:http://mszag.com/news/event/4-kolo-zagrebacke-lige-u-velikom-floretu/
LOCATION:Mačevalački centar MSZ-a Zagrebački Velesajam\, paviljon 25\, Avenija Dubrovnik 15\, Zagreb\, 10000\, Croatia (Local Name: Hrvatska)
CATEGORIES:Croatian / Hrvatski,Foil / Floret,Liga veliki floret MSZ
ATTACH;FMTTYPE=image/png:http://mszag.com/news/wp-content/uploads/2016/11/mszaglogo.png
END:VEVENT
BEGIN:VEVENT
DTSTART;VALUE=DATE:20170312
DTEND;VALUE=DATE:20170313
DTSTAMP:20260420T044946
CREATED:20161117T150035Z
LAST-MODIFIED:20170327T171515Z
UID:1059-1489276800-1489363199@mszag.com
SUMMARY:5. kolo Zagrebačke lige u malom maču - OTKAZANO
DESCRIPTION:NOVI TERMIN : 30.03.2017\n\nU dvorani na zagrebačkom Velesajmu 12.03.2017. održati će se 5. kolo Zagrebačke lige u malom maču. \nPrijave : 08:00 \nBrisanje: 08:30 \nPočetak: 09:00 \nPrijavnina je 25\,00 kn. \nPRISTUP: Pristup mlađoj kategoriji imaju natjecatelji rođeni 2007.\, 2008. i 2009.\n Pristup starijoj kategoriji imaju natjecatelji rođeni 2004.\, 2005. i 2006.
URL:http://mszag.com/news/event/5-kolo-zagrebacke-lige-u-malom-macu/
LOCATION:Mačevalački centar MSZ-a Zagrebački Velesajam\, paviljon 25\, Avenija Dubrovnik 15\, Zagreb\, 10000\, Croatia (Local Name: Hrvatska)
CATEGORIES:Croatian / Hrvatski,Epee / Mač,Liga mali mač MSZ
ATTACH;FMTTYPE=image/png:http://mszag.com/news/wp-content/uploads/2016/11/mszaglogo.png
END:VEVENT
BEGIN:VEVENT
DTSTART;VALUE=DATE:20170311
DTEND;VALUE=DATE:20170312
DTSTAMP:20260420T044946
CREATED:20161117T144607Z
LAST-MODIFIED:20161118T180506Z
UID:1050-1489190400-1489276799@mszag.com
SUMMARY:5. kolo Zagrebačke lige u malom floretu
DESCRIPTION:U dvorani na zagrebačkom Velesajmu 11.03.2017. održati će se 5. kolo Zagrebačke lige u malom floretu. \nPrijave : 08:15 \nBrisanje: 08:45 \nPočetak: 09:00 \nPrijavnina je 25\,00 kn. \nPRISTUP: Pristup mlađoj kategoriji imaju natjecatelji rođeni 2007.\, 2008. i 2009.\nPristup starijoj kategoriji imaju natjecatelji rođeni 2004.\, 2005. i 2006.
URL:http://mszag.com/news/event/5-kolo-zagrebacke-lige-u-malom-floretu/
LOCATION:Mačevalački centar MSZ-a Zagrebački Velesajam\, paviljon 25\, Avenija Dubrovnik 15\, Zagreb\, 10000\, Croatia (Local Name: Hrvatska)
CATEGORIES:Croatian / Hrvatski,Foil / Floret,Liga mali floret MSZ
ATTACH;FMTTYPE=image/png:http://mszag.com/news/wp-content/uploads/2016/11/mszaglogo.png
END:VEVENT
BEGIN:VEVENT
DTSTART;VALUE=DATE:20170218
DTEND;VALUE=DATE:20170220
DTSTAMP:20260420T044946
CREATED:20161116T134759Z
LAST-MODIFIED:20161116T134800Z
UID:979-1487376000-1487548799@mszag.com
SUMMARY:20. Rapir kup
DESCRIPTION:International epee and foil tournament  “20. Rapir Kup”  in men’s and women’s  categories will take place in Zagreb\, Croatia  on 18th and 19th February 2017. \nInvitation for “20. Rapir Kup” – Not yet
URL:http://mszag.com/news/event/20-rapir-kup/
LOCATION:Zagreb\, 10000\, Croatia (Local Name: Hrvatska)
CATEGORIES:Croatian / Hrvatski,EFC/ECC,Epee / Mač,Foil / Floret
ATTACH;FMTTYPE=image/jpeg:http://mszag.com/news/wp-content/uploads/2016/11/rapir.jpg
END:VEVENT
BEGIN:VEVENT
DTSTART;VALUE=DATE:20170214
DTEND;VALUE=DATE:20170215
DTSTAMP:20260420T044946
CREATED:20161117T155133Z
LAST-MODIFIED:20161117T155133Z
UID:1076-1487030400-1487116799@mszag.com
SUMMARY:3. kolo Zagrebačke lige u velikom floretu
DESCRIPTION:U dvorani na zagrebačkom Velesajmu 14.02.2017. održati će se 3. kolo Zagrebačke lige u velikom floretu. \nPrijave : 19:30 \nBrisanje: 19:45 \nPočetak: 20:00 \nPrijavnina je 25\,00 kn.
URL:http://mszag.com/news/event/3-kolo-zagrebacke-lige-u-velikom-floretu/
LOCATION:Mačevalački centar MSZ-a Zagrebački Velesajam\, paviljon 25\, Avenija Dubrovnik 15\, Zagreb\, 10000\, Croatia (Local Name: Hrvatska)
CATEGORIES:Croatian / Hrvatski,Foil / Floret,Liga veliki floret MSZ
ATTACH;FMTTYPE=image/png:http://mszag.com/news/wp-content/uploads/2016/11/mszaglogo.png
END:VEVENT
BEGIN:VEVENT
DTSTART;VALUE=DATE:20170205
DTEND;VALUE=DATE:20170206
DTSTAMP:20260420T044946
CREATED:20161117T144306Z
LAST-MODIFIED:20161117T144329Z
UID:1048-1486252800-1486339199@mszag.com
SUMMARY:4. kolo Zagrebačke lige u malom floretu
DESCRIPTION:U dvorani na zagrebačkom Velesajmu 05.02.2017. održati će se 4. kolo Zagrebačke lige u malom floretu. \nPrijave : 08:15 \nBrisanje: 08:45 \nPočetak: 09:00 \nPrijavnina je 25\,00 kn. \nPRISTUP: Pristup mlađoj kategoriji imaju natjecatelji rođeni 2007.\, 2008. i 2009.\nPristup starijoj kategoriji imaju natjecatelji rođeni 2004.\, 2005. i 2006.
URL:http://mszag.com/news/event/4-kolo-zagrebacke-lige-u-malom-floretu/
LOCATION:Mačevalački centar MSZ-a Zagrebački Velesajam\, paviljon 25\, Avenija Dubrovnik 15\, Zagreb\, 10000\, Croatia (Local Name: Hrvatska)
CATEGORIES:Croatian / Hrvatski,Foil / Floret,Liga mali floret MSZ
ATTACH;FMTTYPE=image/png:http://mszag.com/news/wp-content/uploads/2016/11/mszaglogo.png
END:VEVENT
BEGIN:VEVENT
DTSTART;VALUE=DATE:20170204
DTEND;VALUE=DATE:20170205
DTSTAMP:20260420T044946
CREATED:20161117T145740Z
LAST-MODIFIED:20161117T145740Z
UID:1057-1486166400-1486252799@mszag.com
SUMMARY:4. kolo Zagrebačke lige u malom maču
DESCRIPTION:U dvorani na zagrebačkom Velesajmu 4.02.2017. održati će se 4. kolo Zagrebačke lige u malom maču. \nPrijave : 08:00 \nBrisanje: 08:30 \nPočetak: 09:00 \nPrijavnina je 25\,00 kn. \nPRISTUP: Pristup mlađoj kategoriji imaju natjecatelji rođeni 2007.\, 2008. i 2009.\nPristup starijoj kategoriji imaju natjecatelji rođeni 2004.\, 2005. i 2006.
URL:http://mszag.com/news/event/4-kolo-zagrebacke-lige-u-malom-macu/
LOCATION:Mačevalački centar MSZ-a Zagrebački Velesajam\, paviljon 25\, Avenija Dubrovnik 15\, Zagreb\, 10000\, Croatia (Local Name: Hrvatska)
CATEGORIES:Croatian / Hrvatski,Epee / Mač,Liga mali mač MSZ
ATTACH;FMTTYPE=image/png:http://mszag.com/news/wp-content/uploads/2016/11/mszaglogo.png
END:VEVENT
BEGIN:VEVENT
DTSTART;VALUE=DATE:20170124
DTEND;VALUE=DATE:20170125
DTSTAMP:20260420T044946
CREATED:20161117T150828Z
LAST-MODIFIED:20161117T150828Z
UID:1063-1485216000-1485302399@mszag.com
SUMMARY:4. kolo Zagrebačke lige u velikom maču
DESCRIPTION:U dvorani na zagrebačkom Velesajmu 24.01.2017. održati će se 4. kolo Zagrebačke lige u velikom maču. \nPrijave : 19:30 \nBrisanje: 19:45 \nPočetak: 20:00 \nPrijavnina je 25\,00 kn.
URL:http://mszag.com/news/event/4-kolo-zagrebacke-lige-u-velikom-macu/
LOCATION:Mačevalački centar MSZ-a Zagrebački Velesajam\, paviljon 25\, Avenija Dubrovnik 15\, Zagreb\, 10000\, Croatia (Local Name: Hrvatska)
CATEGORIES:Croatian / Hrvatski,Epee / Mač,Liga veliki mač MSZ
ATTACH;FMTTYPE=image/png:http://mszag.com/news/wp-content/uploads/2016/11/mszaglogo.png
END:VEVENT
BEGIN:VEVENT
DTSTART;VALUE=DATE:20161217
DTEND;VALUE=DATE:20161218
DTSTAMP:20260420T044946
CREATED:20161117T145513Z
LAST-MODIFIED:20161117T145513Z
UID:1055-1481932800-1482019199@mszag.com
SUMMARY:3. kolo Zagrebačke lige u malom maču
DESCRIPTION:U dvorani na zagrebačkom Velesajmu 17.12.2016. održati će se 3. kolo Zagrebačke lige u malom maču. \nPrijave : 08:00 \nBrisanje: 08:30 \nPočetak: 09:00 \nPrijavnina je 25\,00 kn. \nPRISTUP: Pristup mlađoj kategoriji imaju natjecatelji rođeni 2007.\, 2008. i 2009.\nPristup starijoj kategoriji imaju natjecatelji rođeni 2004.\, 2005. i 2006.
URL:http://mszag.com/news/event/3-kolo-zagrebacke-lige-u-malom-macu/
LOCATION:Mačevalački centar MSZ-a Zagrebački Velesajam\, paviljon 25\, Avenija Dubrovnik 15\, Zagreb\, 10000\, Croatia (Local Name: Hrvatska)
CATEGORIES:Croatian / Hrvatski,Epee / Mač,Liga mali mač MSZ
ATTACH;FMTTYPE=image/png:http://mszag.com/news/wp-content/uploads/2016/11/mszaglogo.png
END:VEVENT
BEGIN:VEVENT
DTSTART;VALUE=DATE:20161213
DTEND;VALUE=DATE:20161214
DTSTAMP:20260420T044946
CREATED:20161117T150623Z
LAST-MODIFIED:20161117T150623Z
UID:1061-1481587200-1481673599@mszag.com
SUMMARY:3. kolo Zagrebačke lige u velikom maču
DESCRIPTION:U dvorani na zagrebačkom Velesajmu 13.12.2016. održati će se 3. kolo Zagrebačke lige u velikom maču. \nPrijave : 19:30 \nBrisanje: 19:45 \nPočetak: 20:00 \nPrijavnina je 25\,00 kn.
URL:http://mszag.com/news/event/3-kolo-zagrebacke-lige-u-velikom-macu/
LOCATION:Mačevalački centar MSZ-a Zagrebački Velesajam\, paviljon 25\, Avenija Dubrovnik 15\, Zagreb\, 10000\, Croatia (Local Name: Hrvatska)
CATEGORIES:Croatian / Hrvatski,Epee / Mač,Liga veliki mač MSZ
ATTACH;FMTTYPE=image/png:http://mszag.com/news/wp-content/uploads/2016/11/mszaglogo.png
END:VEVENT
BEGIN:VEVENT
DTSTART;VALUE=DATE:20161210
DTEND;VALUE=DATE:20161211
DTSTAMP:20260420T044946
CREATED:20161118T181707Z
LAST-MODIFIED:20161123T150923Z
UID:1088-1481328000-1481414399@mszag.com
SUMMARY:19. Božićni turnir  / 19th Christmas Tournament
DESCRIPTION:International  epee tournament “19. Božićni turnir  / 19th Christmas Tournament” in men’s and women’s junior and senior categories will take place in Zagreb\, Croatia  on 10th December 2016 \nInvitation for “19. Božićni turnir  / 19th Christmas Tournament”
URL:http://mszag.com/news/event/19-bozicni-turnir-19th-christmas-tournament/
LOCATION:O.Š. Gornje Vrapče\, Vrapčanska 188\, Zagreb\, 10000\, Croatia (Local Name: Hrvatska)
CATEGORIES:Croatian / Hrvatski,Epee / Mač
ATTACH;FMTTYPE=image/bmp:http://mszag.com/news/wp-content/uploads/2016/11/mladost2015.bmp
END:VEVENT
BEGIN:VEVENT
DTSTART;VALUE=DATE:20161203
DTEND;VALUE=DATE:20161204
DTSTAMP:20260420T044946
CREATED:20161117T144034Z
LAST-MODIFIED:20161117T144034Z
UID:1046-1480723200-1480809599@mszag.com
SUMMARY:3. kolo Zagrebačke lige u malom floretu
DESCRIPTION:U dvorani na zagrebačkom Velesajmu 03.12.2016 održati će se 3. kolo Zagrebačke lige u malom floretu. \nPrijave : 08:15 \nBrisanje: 08:45 \nPočetak: 09:00 \nPrijavnina je 25\,00 kn. \nPRISTUP: Pristup mlađoj kategoriji imaju natjecatelji rođeni 2007.\, 2008. i 2009.\nPristup starijoj kategoriji imaju natjecatelji rođeni 2004.\, 2005. i 2006.
URL:http://mszag.com/news/event/3-kolo-zagrebacke-lige-u-malom-floretu/
LOCATION:Mačevalački centar MSZ-a Zagrebački Velesajam\, paviljon 25\, Avenija Dubrovnik 15\, Zagreb\, 10000\, Croatia (Local Name: Hrvatska)
CATEGORIES:Croatian / Hrvatski,Foil / Floret,Liga mali floret MSZ
ATTACH;FMTTYPE=image/png:http://mszag.com/news/wp-content/uploads/2016/11/mszaglogo.png
END:VEVENT
BEGIN:VEVENT
DTSTART;VALUE=DATE:20161129
DTEND;VALUE=DATE:20161130
DTSTAMP:20260420T044946
CREATED:20161117T154449Z
LAST-MODIFIED:20161117T154449Z
UID:1074-1480377600-1480463999@mszag.com
SUMMARY:2. kolo Zagrebačke lige u velikom floretu
DESCRIPTION:U dvorani na zagrebačkom Velesajmu 29.11.2016. održati će se 2. kolo Zagrebačke lige u velikom floretu. \nPrijave : 19:30 \nBrisanje: 19:45 \nPočetak: 20:00 \nPrijavnina je 25\,00 kn.
URL:http://mszag.com/news/event/2-kolo-zagrebacke-lige-u-velikom-floretu/
LOCATION:Mačevalački centar MSZ-a Zagrebački Velesajam\, paviljon 25\, Avenija Dubrovnik 15\, Zagreb\, 10000\, Croatia (Local Name: Hrvatska)
CATEGORIES:Croatian / Hrvatski,Foil / Floret,Liga veliki floret MSZ
ATTACH;FMTTYPE=image/png:http://mszag.com/news/wp-content/uploads/2016/11/mszaglogo.png
END:VEVENT
BEGIN:VEVENT
DTSTART;TZID=UTC:20161127T080000
DTEND;TZID=UTC:20161127T170000
DTSTAMP:20260420T044946
CREATED:20161117T143728Z
LAST-MODIFIED:20161121T100303Z
UID:1041-1480233600-1480266000@mszag.com
SUMMARY:2. kolo Zagrebačke lige u malom floretu
DESCRIPTION:U dvorani na zagrebačkom Velesajmu 27.11.2016 održati će se 2. kolo Zagrebačke lige u malom floretu. \nPrijave : 08:00 \nBrisanje: 08:30 \nPočetak: 09:00 \nPrijavnina je 25\,00 kn. \nPRISTUP: Pristup mlađoj kategoriji imaju natjecatelji rođeni 2007.\, 2008. i 2009.\nPristup starijoj kategoriji imaju natjecatelji rođeni 2004.\, 2005. i 2006.
URL:http://mszag.com/news/event/2-kolo-zagrebacke-lige-u-malom-floretu/
LOCATION:Mačevalački centar MSZ-a Zagrebački Velesajam\, paviljon 25\, Avenija Dubrovnik 15\, Zagreb\, 10000\, Croatia (Local Name: Hrvatska)
CATEGORIES:Croatian / Hrvatski,Foil / Floret,Liga mali floret MSZ
ATTACH;FMTTYPE=image/png:http://mszag.com/news/wp-content/uploads/2016/11/mszaglogo.png
END:VEVENT
BEGIN:VEVENT
DTSTART;VALUE=DATE:20161126
DTEND;VALUE=DATE:20161127
DTSTAMP:20260420T044946
CREATED:20161117T145020Z
LAST-MODIFIED:20161117T145020Z
UID:1052-1480118400-1480204799@mszag.com
SUMMARY:2. kolo Zagrebačke lige u malom maču
DESCRIPTION:U dvorani na zagrebačkom Velesajmu 26.11.2016. održati će se 2. kolo Zagrebačke lige u malom maču. \nPrijave : 08:00 \nBrisanje: 08:30 \nPočetak: 09:00 \nPrijavnina je 25\,00 kn. \nPRISTUP: Pristup mlađoj kategoriji imaju natjecatelji rođeni 2007.\, 2008. i 2009.\nPristup starijoj kategoriji imaju natjecatelji rođeni 2004.\, 2005. i 2006.
URL:http://mszag.com/news/event/2-kolo-zagrebacke-lige-u-malom-macu/
LOCATION:Mačevalački centar MSZ-a Zagrebački Velesajam\, paviljon 25\, Avenija Dubrovnik 15\, Zagreb\, 10000\, Croatia (Local Name: Hrvatska)
CATEGORIES:Croatian / Hrvatski,Epee / Mač,Liga mali mač MSZ
ATTACH;FMTTYPE=image/png:http://mszag.com/news/wp-content/uploads/2016/11/mszaglogo.png
END:VEVENT
END:VCALENDAR