BEGIN:VCALENDAR
VERSION:2.0
PRODID:-//Fencing news - ECPv6.15.20//NONSGML v1.0//EN
CALSCALE:GREGORIAN
METHOD:PUBLISH
X-WR-CALNAME:Fencing news
X-ORIGINAL-URL:http://mszag.com/news
X-WR-CALDESC:Events for Fencing news
REFRESH-INTERVAL;VALUE=DURATION:PT1H
X-Robots-Tag:noindex
X-PUBLISHED-TTL:PT1H
BEGIN:VTIMEZONE
TZID:UTC
BEGIN:STANDARD
TZOFFSETFROM:+0000
TZOFFSETTO:+0000
TZNAME:UTC
DTSTART:20150101T000000
END:STANDARD
END:VTIMEZONE
BEGIN:VTIMEZONE
TZID:Europe/Paris
BEGIN:DAYLIGHT
TZOFFSETFROM:+0100
TZOFFSETTO:+0200
TZNAME:CEST
DTSTART:20150329T010000
END:DAYLIGHT
BEGIN:STANDARD
TZOFFSETFROM:+0200
TZOFFSETTO:+0100
TZNAME:CET
DTSTART:20151025T010000
END:STANDARD
BEGIN:DAYLIGHT
TZOFFSETFROM:+0100
TZOFFSETTO:+0200
TZNAME:CEST
DTSTART:20160327T010000
END:DAYLIGHT
BEGIN:STANDARD
TZOFFSETFROM:+0200
TZOFFSETTO:+0100
TZNAME:CET
DTSTART:20161030T010000
END:STANDARD
BEGIN:DAYLIGHT
TZOFFSETFROM:+0100
TZOFFSETTO:+0200
TZNAME:CEST
DTSTART:20170326T010000
END:DAYLIGHT
BEGIN:STANDARD
TZOFFSETFROM:+0200
TZOFFSETTO:+0100
TZNAME:CET
DTSTART:20171029T010000
END:STANDARD
END:VTIMEZONE
BEGIN:VEVENT
DTSTART;VALUE=DATE:20161112
DTEND;VALUE=DATE:20161114
DTSTAMP:20260420T154602
CREATED:20161109T114053Z
LAST-MODIFIED:20161109T114303Z
UID:866-1478908800-1479081599@mszag.com
SUMMARY:36.Tournoi International de fleuret femmes cadettes à Tauberbischofsheim
DESCRIPTION:International EFC/ECC foil tournament in women’s categories will take place in Tauberbischofsheim on 12/13th November 2016 \nInvitation for Pokal der Sparkasse Tauberfranken”
URL:http://mszag.com/news/event/36-tournoi-international-de-fleuret-femmes-cadettes-a-tauberbischofsheim/
LOCATION:Cercle d’Escrime Tauberbischofsheim\, Pestalozziallee 12\, Tauberbischofsheim\, 97941\, Germany
CATEGORIES:EFC/ECC,Foil / Floret,Germany
ATTACH;FMTTYPE=image/bmp:http://mszag.com/news/wp-content/uploads/2016/11/efctauber2016.bmp
END:VEVENT
BEGIN:VEVENT
DTSTART;VALUE=DATE:20161112
DTEND;VALUE=DATE:20161114
DTSTAMP:20260420T154602
CREATED:20161106T190827Z
LAST-MODIFIED:20161107T181918Z
UID:755-1478908800-1479081599@mszag.com
SUMMARY:ECC/EFC 29ième "KNEIPP  – Cup" - Tournoi International d´epée dames cadette - Heidenheim\, Germany
DESCRIPTION:U Heidenheimu se 12. i 13. 11. 2016 održava kadetski turnir u maču\, individualno i ekipno. \nPropozicije za turnir \n \nEFC / ECC tournament in women’s epee will take place in Heidenheim\, Germany on 12th and 13th November 2016. \nInvitation for the tournament
URL:http://mszag.com/news/event/eccefc-29ieme-kneipp-cup-tournoi-international-depee-dames-cadette-heidenheim-germany/
LOCATION:FIE
CATEGORIES:EFC/ECC,Epee / Mač,Germany
END:VEVENT
BEGIN:VEVENT
DTSTART;TZID=UTC:20161105T080000
DTEND;TZID=UTC:20161106T190000
DTSTAMP:20260420T154602
CREATED:20161104T135012Z
LAST-MODIFIED:20161104T135012Z
UID:744-1478332800-1478458800@mszag.com
SUMMARY:INTERNATIONALES FREDI GRASNEK KADETTENTURNIER - MÖDLING\, AUT - 05/06.11.2016
DESCRIPTION:Invitation / Propozicije \nLive results
URL:http://mszag.com/news/event/internationales-fredi-grasnek-kadettenturnier-modling-aut-0506-11-2016/
LOCATION:BUNDESSPORTZENTRUM SÜDSTADT\, Liese Prokop Platz 1\, Maria Enzersdorf\, 2344\, Austria
CATEGORIES:Austria,EFC/ECC,Epee / Mač,Foil / Floret,Sabre / Sablja
ATTACH;FMTTYPE=image/jpeg:http://mszag.com/news/wp-content/uploads/2016/11/moedlinglogo.jpg
END:VEVENT
END:VCALENDAR