BEGIN:VCALENDAR
VERSION:2.0
PRODID:-//Fencing news - ECPv6.15.20//NONSGML v1.0//EN
CALSCALE:GREGORIAN
METHOD:PUBLISH
X-ORIGINAL-URL:http://mszag.com/news
X-WR-CALDESC:Events for Fencing news
REFRESH-INTERVAL;VALUE=DURATION:PT1H
X-Robots-Tag:noindex
X-PUBLISHED-TTL:PT1H
BEGIN:VTIMEZONE
TZID:UTC
BEGIN:STANDARD
TZOFFSETFROM:+0000
TZOFFSETTO:+0000
TZNAME:UTC
DTSTART:20160101T000000
END:STANDARD
END:VTIMEZONE
BEGIN:VEVENT
DTSTART;VALUE=DATE:20170524
DTEND;VALUE=DATE:20170529
DTSTAMP:20260419T192412
CREATED:20170413T124502Z
LAST-MODIFIED:20170413T133324Z
UID:1375-1495584000-1496015999@mszag.com
SUMMARY:14th European Veterans Championships\,  Chiavari\, Italy – from 24 to 28 May 2017
DESCRIPTION:The 14th European Veterans Fencing Championships 2017 will take place in Chiavari at PALAZZETTO DELLO SPORT in San Pier di Canne in via per Maxena from 24th to 28th of May 2017. \nInvitation for  14th European Veterans Fencing Championships 2017 \nLive results and video from 14th European Veterans Fencing Championships 2017
URL:http://mszag.com/news/event/14th-european-veterans-championships-chiavari-italy-from-24-to-28-may-2017/
LOCATION:Sport Hall Massimo Carrino\, Case Sparse 5\,\, Chiavari\, 16043\, Italy
CATEGORIES:Epee / Mač,European championships,Foil / Floret,Italy,Sabre / Sablja,Veterans
ATTACH;FMTTYPE=image/jpeg:http://mszag.com/news/wp-content/uploads/2017/04/senior2017-1.jpg
ORGANIZER;CN="CHIAVARI SCHERMA a.s.d.":MAILTO:tecnico@europeanfencingmaster.eu
END:VEVENT
BEGIN:VEVENT
DTSTART;VALUE=DATE:20170421
DTEND;VALUE=DATE:20170426
DTSTAMP:20260419T192412
CREATED:20170413T113927Z
LAST-MODIFIED:20170413T113927Z
UID:1367-1492732800-1493164799@mszag.com
SUMMARY:10th EUROPEAN U23 FENCING CHAMPIONSHIPS - Minsk (Belarus)\, 21-25 April 2017
DESCRIPTION:10th EUROPEAN U23 FENCING CHAMPIONSHIPS in foil \, epee and sabre will be held in Minsk\, Belarus from 21st to 25th of April 2017. \nInvitation and programme for 10th EUROPEAN U23 FENCING CHAMPIONSHIPS\, Minsk\, Belarus \nLive results and video from 10th EUROPEAN U23 FENCING CHAMPIONSHIPS\, Minsk\, Belarus \n 
URL:http://mszag.com/news/event/10th-european-u23-fencing-championships-minsk-belarus-21-25-april-2017/
LOCATION:Minsk Sports Palace\, pr. Pobediteley 4\, Minsk\, 220007\, Belarus
CATEGORIES:Belarus,Epee / Mač,European championships,FIE,Foil / Floret,Sabre / Sablja
ATTACH;FMTTYPE=image/png:http://mszag.com/news/wp-content/uploads/2017/04/minsk2017.png
ORGANIZER;CN="Belarusian Fencing Federation":MAILTO:info@fencing.by
END:VEVENT
END:VCALENDAR