BEGIN:VCALENDAR
VERSION:2.0
PRODID:-//Fencing news - ECPv6.15.20//NONSGML v1.0//EN
CALSCALE:GREGORIAN
METHOD:PUBLISH
X-WR-CALNAME:Fencing news
X-ORIGINAL-URL:http://mszag.com/news
X-WR-CALDESC:Events for Fencing news
REFRESH-INTERVAL;VALUE=DURATION:PT1H
X-Robots-Tag:noindex
X-PUBLISHED-TTL:PT1H
BEGIN:VTIMEZONE
TZID:UTC
BEGIN:STANDARD
TZOFFSETFROM:+0000
TZOFFSETTO:+0000
TZNAME:UTC
DTSTART:20150101T000000
END:STANDARD
END:VTIMEZONE
BEGIN:VEVENT
DTSTART;VALUE=DATE:20161209
DTEND;VALUE=DATE:20161212
DTSTAMP:20260420T070354
CREATED:20161110T131951Z
LAST-MODIFIED:20161116T123406Z
UID:913-1481241600-1481500799@mszag.com
SUMMARY:Olimpici Grand Prix 2. Szolnok Cup
DESCRIPTION:International epee tournament for younger categories “Olimpici Grand Prix 2. Szolnok Cup”  in men’s and women’s  categories will take place in Szolnok\, Hungary from  9th to 11th December 2016 \nInvitation for Olimpici Grand Prix 2. Szolnok Cup – Not yet
URL:http://mszag.com/news/event/olimpici-grand-prix-2-szolnok-cup/
LOCATION:Széchenyi István Gimnázium Sportcsarnoka (Sporthall of Széchenyi High School)\, Széchenyi krt. 16\, Szolnok\, 5000\, Hungary
CATEGORIES:Epee / Mač,Hungary,Olimpici Grand Prix
ATTACH;FMTTYPE=image/gif:http://mszag.com/news/wp-content/uploads/2016/11/olimpici.gif
END:VEVENT
BEGIN:VEVENT
DTSTART;VALUE=DATE:20161119
DTEND;VALUE=DATE:20161120
DTSTAMP:20260420T070354
CREATED:20161109T115938Z
LAST-MODIFIED:20161109T115938Z
UID:872-1479513600-1479599999@mszag.com
SUMMARY:FÜLÖP MIHÁLY MAGYAR KUPA 2016/2017 évi versenysorozatának
DESCRIPTION:International foil tournament in men’s and women’s category upto 14 years  will take place in Budapest\, Hungary on 19th November 2016 \nInvitation for FÜLÖP MIHÁLY MAGYAR KUPA Budapest
URL:http://mszag.com/news/event/fulop-mihaly-magyar-kupa-20162017-evi-versenysorozatanak/
LOCATION:UTE vívóterem\, Király u. 71\, Budapest\, 1077\, Hungary
CATEGORIES:Foil / Floret,Hungary
ATTACH;FMTTYPE=image/bmp:http://mszag.com/news/wp-content/uploads/2016/11/fulop.bmp
END:VEVENT
END:VCALENDAR