BEGIN:VCALENDAR
VERSION:2.0
PRODID:-//Fencing news - ECPv6.15.20//NONSGML v1.0//EN
CALSCALE:GREGORIAN
METHOD:PUBLISH
X-WR-CALNAME:Fencing news
X-ORIGINAL-URL:http://mszag.com/news
X-WR-CALDESC:Events for Fencing news
REFRESH-INTERVAL;VALUE=DURATION:PT1H
X-Robots-Tag:noindex
X-PUBLISHED-TTL:PT1H
BEGIN:VTIMEZONE
TZID:UTC
BEGIN:STANDARD
TZOFFSETFROM:+0000
TZOFFSETTO:+0000
TZNAME:UTC
DTSTART:20150101T000000
END:STANDARD
END:VTIMEZONE
BEGIN:VEVENT
DTSTART;VALUE=DATE:20170228
DTEND;VALUE=DATE:20170310
DTSTAMP:20260420T202357
CREATED:20170225T212911Z
LAST-MODIFIED:20170225T212931Z
UID:1243-1488240000-1489103999@mszag.com
SUMMARY:European Cadet and Junior Championships 2017 Plovdiv (Bulgaria) 28 February - 09 March 2017
DESCRIPTION:The Junior and Cadet European Fencing Championships will be organized by the Bulgarian Fencing Federation from 28th of February till 09th of March 2017 with the support of the Organizing Committee for Junior and Cadet European Fencing Championships and the mayor of the Town of Plovdiv\, under the auspices and authority of the European Fencing Confederation (EFC/CEE). \nInvitation for European Cadet and Junior Championships 2017
URL:http://mszag.com/news/event/european-cadet-and-junior-championships-2017-plovdiv-bulgaria-28-february-09-march-2017/
LOCATION:International Fair Plovdiv\, Pavilion 8\, Plovdiv\, Bulgaria
CATEGORIES:Bulgaria,EFC/ECC,Epee / Mač,Foil / Floret,Sabre / Sablja
ATTACH;FMTTYPE=image/png:http://mszag.com/news/wp-content/uploads/2017/02/plovdiv-2017.png
ORGANIZER;CN="Bulgarian Fencing Federation":MAILTO:bulfencing@gmail.com
END:VEVENT
BEGIN:VEVENT
DTSTART;VALUE=DATE:20170211
DTEND;VALUE=DATE:20170213
DTSTAMP:20260420T202357
CREATED:20170209T125528Z
LAST-MODIFIED:20170209T125608Z
UID:1205-1486771200-1486943999@mszag.com
SUMMARY:Kup "Pobednik" i Trofej "Pobednik" - 11/12.02.2017 - Beograd\,SRB
DESCRIPTION:U Beogradu se 11. i 12. veljače 2017 održava “Kup pobednika” i “Trofej pobednik” \, natjecanje u maču \, floretu i sablji\, u svim starosnim skupinama. \nPropozicije za “Kup pobednika i Trofej Pobednik” \n \n“Kup Pobednika i Trofej Pobednik” will be held in Belgrade\, Serbia on 11th and 12th of February 2017. Competition will be held in all weapons and age categories. \nInvitation for “Kup pobednika i Trofej Pobednik”
URL:http://mszag.com/news/event/kup-pobednik-i-trofej-pobednik-1112-02-2017-beogradsrb/
LOCATION:Zvezdara\, Stanka Vraza 63 \, Beograd\, Stanka Vraza 63\, Beograd\, 11000\, Serbia
CATEGORIES:Epee / Mač,Foil / Floret,Sabre / Sablja,Serbia
ATTACH;FMTTYPE=image/gif:http://mszag.com/news/wp-content/uploads/2017/02/pobednik.gif
ORGANIZER;CN="Ma%C4%8Devala%C4%8Dki klub Pobednik":MAILTO:danijela.p79@gmail.com
END:VEVENT
BEGIN:VEVENT
DTSTART;VALUE=DATE:20161211
DTEND;VALUE=DATE:20161212
DTSTAMP:20260420T202357
CREATED:20161110T135354Z
LAST-MODIFIED:20161110T135354Z
UID:932-1481414400-1481500799@mszag.com
SUMMARY:RED STAR TROPHY 2016
DESCRIPTION:International  epee\, foil and sabre tournament “Red Star Trophy 2016” in men’s and women’s categories will take place in Belgrade\,  Serbia  on 11th December 2016 \nInvitation for Red Star Trophy 2016
URL:http://mszag.com/news/event/red-star-trophy-2016/
LOCATION:FC Red Star hall\, Ljutice Bogdana 1a\, Belgrade\, 11000\, Serbia
CATEGORIES:Epee / Mač,Foil / Floret,Sabre / Sablja,Serbia
ATTACH;FMTTYPE=image/jpeg:http://mszag.com/news/wp-content/uploads/2016/11/zvezdalogo.jpg
END:VEVENT
BEGIN:VEVENT
DTSTART;VALUE=DATE:20161210
DTEND;VALUE=DATE:20161211
DTSTAMP:20260420T202357
CREATED:20161110T134626Z
LAST-MODIFIED:20161110T135532Z
UID:927-1481328000-1481414399@mszag.com
SUMMARY:MEMORIAL ANDREJ GARDENIN
DESCRIPTION:International  epee\,foil and sabre tournament “Memorial Andrej Gardenin 2016” in for boys and girls categories will take place in Belgrade\,  Serbia  on 10th December 2016 \nInvitation for Memorial Andrej Gardenin 2016
URL:http://mszag.com/news/event/memorial-andrej-gardenin/
LOCATION:FC Red Star hall\, Ljutice Bogdana 1a\, Belgrade\, 11000\, Serbia
CATEGORIES:Epee / Mač,Foil / Floret,Sabre / Sablja,Serbia
ATTACH;FMTTYPE=image/jpeg:http://mszag.com/news/wp-content/uploads/2016/11/zvezdalogo.jpg
END:VEVENT
BEGIN:VEVENT
DTSTART;VALUE=DATE:20161203
DTEND;VALUE=DATE:20161204
DTSTAMP:20260420T202357
CREATED:20161110T130752Z
LAST-MODIFIED:20161110T130752Z
UID:909-1480723200-1480809599@mszag.com
SUMMARY:Tournoi International de sabre dames cadettes à Eislingen "Volksbankpokal"
DESCRIPTION:International EFC/ECC sabre tournament “Tournoi International de sabre dames cadettes à Eislingen Volksbankpokal”  in women’s cadet category will take place in Eislingen\,  Germany 3rd December 2016 \nTournoi International de sabre dames cadettes à Eislingen “Volksbankpokal”
URL:http://mszag.com/news/event/tournoi-international-de-sabre-dames-cadettes-a-eislingen-volksbankpokal/
LOCATION:Öschhalle\, Talstraße. 54\, Eislingen\, 73054\, Germany
CATEGORIES:Germany,Sabre / Sablja
ATTACH;FMTTYPE=image/bmp:http://mszag.com/news/wp-content/uploads/2016/11/efctauber2016.bmp
END:VEVENT
BEGIN:VEVENT
DTSTART;VALUE=DATE:20161119
DTEND;VALUE=DATE:20161121
DTSTAMP:20260420T202357
CREATED:20161109T131114Z
LAST-MODIFIED:20161109T131424Z
UID:887-1479513600-1479686399@mszag.com
SUMMARY:EFC Moscow sabre of the young boys and girls
DESCRIPTION:International EFC/ECC sabre tournament in men’s and women’s cadet categories will take place in Moscow\, Russian Federation  on 19/20th November 2016 \nInvitation for International EFC/ECC sabre tournament
URL:http://mszag.com/news/event/efc-moscow-sabre-of-the-young-boys-and-girls/
LOCATION:Sport Center Chertanovo\, Severnoe Chertanovo\, building 806\, Moscow\, Russian Federation
CATEGORIES:EFC/ECC,Russia,Sabre / Sablja
ATTACH;FMTTYPE=image/png:http://mszag.com/news/wp-content/uploads/2016/11/RUS.png
END:VEVENT
BEGIN:VEVENT
DTSTART;VALUE=DATE:20161119
DTEND;VALUE=DATE:20161121
DTSTAMP:20260420T202357
CREATED:20161109T121117Z
LAST-MODIFIED:20161109T121117Z
UID:877-1479513600-1479686399@mszag.com
SUMMARY:7. Int. Jugendturnier um den Maximilianpokal der Stadt Wels\, Austria
DESCRIPTION:International “7. Int. Jugendturnier um den Maximilianpokal der Stadt Wels”  in foil and sabre \, in men’s and women’s categories will take place in Wels\, Austria on 19/20th November 2016. \nInvitation for 7. Int. Jugendturnier um den Maximilianpokal der Stadt Wels
URL:http://mszag.com/news/event/7-int-jugendturnier-um-den-maximilianpokal-der-stadt-wels-austria/
LOCATION:Sporthalle NMS 5\, Mozartstraße 18 – 20\, Wels-Neustadt\, 4600\, Austria
CATEGORIES:Austria,Foil / Floret,Sabre / Sablja
ATTACH;FMTTYPE=image/bmp:http://mszag.com/news/wp-content/uploads/2016/11/wels2016.bmp
END:VEVENT
BEGIN:VEVENT
DTSTART;TZID=UTC:20161105T080000
DTEND;TZID=UTC:20161106T190000
DTSTAMP:20260420T202357
CREATED:20161104T135012Z
LAST-MODIFIED:20161104T135012Z
UID:744-1478332800-1478458800@mszag.com
SUMMARY:INTERNATIONALES FREDI GRASNEK KADETTENTURNIER - MÖDLING\, AUT - 05/06.11.2016
DESCRIPTION:Invitation / Propozicije \nLive results
URL:http://mszag.com/news/event/internationales-fredi-grasnek-kadettenturnier-modling-aut-0506-11-2016/
LOCATION:BUNDESSPORTZENTRUM SÜDSTADT\, Liese Prokop Platz 1\, Maria Enzersdorf\, 2344\, Austria
CATEGORIES:Austria,EFC/ECC,Epee / Mač,Foil / Floret,Sabre / Sablja
ATTACH;FMTTYPE=image/jpeg:http://mszag.com/news/wp-content/uploads/2016/11/moedlinglogo.jpg
END:VEVENT
END:VCALENDAR