BEGIN:VCALENDAR
VERSION:2.0
PRODID:-//Fencing news - ECPv6.15.20//NONSGML v1.0//EN
CALSCALE:GREGORIAN
METHOD:PUBLISH
X-ORIGINAL-URL:http://mszag.com/news
X-WR-CALDESC:Events for Fencing news
REFRESH-INTERVAL;VALUE=DURATION:PT1H
X-Robots-Tag:noindex
X-PUBLISHED-TTL:PT1H
BEGIN:VTIMEZONE
TZID:UTC
BEGIN:STANDARD
TZOFFSETFROM:+0000
TZOFFSETTO:+0000
TZNAME:UTC
DTSTART:20150101T000000
END:STANDARD
END:VTIMEZONE
BEGIN:VEVENT
DTSTART;VALUE=DATE:20161218
DTEND;VALUE=DATE:20161219
DTSTAMP:20260419T205135
CREATED:20161109T105339Z
LAST-MODIFIED:20161109T112229Z
UID:856-1482019200-1482105599@mszag.com
SUMMARY:35. Cvetkov memorijal\, Ljubljana
DESCRIPTION:U Ljubljani\, Slovenija\, će se 18.12.2016 održati natjecanje u floretu “35. Cvetkov memorijal”.\n\n\nPropozicije za 35. Cvetkov memorial\n\n\n\n\nFoil tournament “35. Cvetkov Memorial” will take place in Ljubljana\, Slovenia on 18th December 2016.\n\n\nInvitation for “35th Cvetkov Memorial”
URL:http://mszag.com/news/event/35-cvetkov-memorijal-18-12-2016/
LOCATION:Športno društvo Tabor\, Tabor 13\,\, Ljubljana\, 1000\, Slovenia
CATEGORIES:Foil / Floret,Slovenia
ATTACH;FMTTYPE=image/bmp:http://mszag.com/news/wp-content/uploads/2016/11/cvetko2016.bmp
END:VEVENT
END:VCALENDAR