BEGIN:VCALENDAR
VERSION:2.0
PRODID:-//Fencing news - ECPv6.15.20//NONSGML v1.0//EN
CALSCALE:GREGORIAN
METHOD:PUBLISH
X-WR-CALNAME:Fencing news
X-ORIGINAL-URL:http://mszag.com/news
X-WR-CALDESC:Events for Fencing news
REFRESH-INTERVAL;VALUE=DURATION:PT1H
X-Robots-Tag:noindex
X-PUBLISHED-TTL:PT1H
BEGIN:VTIMEZONE
TZID:UTC
BEGIN:STANDARD
TZOFFSETFROM:+0000
TZOFFSETTO:+0000
TZNAME:UTC
DTSTART:20160101T000000
END:STANDARD
END:VTIMEZONE
BEGIN:VEVENT
DTSTART;VALUE=DATE:20171015
DTEND;VALUE=DATE:20171022
DTSTAMP:20260419T121815
CREATED:20170418T104525Z
LAST-MODIFIED:20170418T111856Z
UID:1431-1508025600-1508630399@mszag.com
SUMMARY:Veterans World fencing Championship 2017 - 15.-21.10.2017. - Maribor\, Slovenia
DESCRIPTION:Veterans World fencing Championship 2017 will be held in Maribor\, Slovenia from 15th till 21st of October 2017. \nInvitation for Veterans World fencing Championship 2017 – not yet \nLive results from Veterans World fencing Championship 2017  \n 
URL:http://mszag.com/news/event/veterans-world-fencing-championship-2017-15-21-10-2017-maribor-slovenia/
LOCATION:ŠPORTNI CENTER DRAŠ\, Pohorska ulica 57\, Maribor\, 2000\, Slovenia
CATEGORIES:Epee / Mač,Foil / Floret,Sabre / Sablja,Slovenia,Veterans,World championships
ATTACH;FMTTYPE=image/png:http://mszag.com/news/wp-content/uploads/2017/04/veteran2017world.png
ORGANIZER;CN="Sablja%C5%A1ka zveza Slovenije%E2%80%82":MAILTO:organisation@vfwc2017.si
END:VEVENT
BEGIN:VEVENT
DTSTART;TZID=UTC:20170613T200000
DTEND;TZID=UTC:20170613T220000
DTSTAMP:20260419T121815
CREATED:20170607T134053Z
LAST-MODIFIED:20170607T134053Z
UID:1446-1497384000-1497391200@mszag.com
SUMMARY:4. kolo zagrebačke lige u velikom floretu
DESCRIPTION:U dvorani na zagrebačkom Velesajmu 13.06.2017. održati će se 4. kolo Zagrebačke lige u velikom floretu\, te će se proglasiti najbolji mačevaoci \, a nakon toga će im biti uručene prigodne nagrade. \nPrijave : 19:30 \nBrisanje: 19:45 \nPočetak: 20:00 \nPrijavnina je 25\,00 kn.
URL:http://mszag.com/news/event/4-kolo-zagrebacke-lige-u-velikom-floretu-2/
LOCATION:Mačevalački centar MSZ-a Zagrebački Velesajam\, paviljon 25\, Avenija Dubrovnik 15\, Zagreb\, 10000\, Croatia (Local Name: Hrvatska)
CATEGORIES:Foil / Floret,Liga veliki floret MSZ
ATTACH;FMTTYPE=image/png:http://mszag.com/news/wp-content/uploads/2016/11/mszaglogo.png
END:VEVENT
BEGIN:VEVENT
DTSTART;VALUE=DATE:20170611
DTEND;VALUE=DATE:20170618
DTSTAMP:20260419T121815
CREATED:20170410T152929Z
LAST-MODIFIED:20170413T122744Z
UID:1353-1497139200-1497743999@mszag.com
SUMMARY:EUROPEAN SENIOR FENCING CHAMPIONSHIPS 2017 and EFC CONGRESS Tbilisi\, GEORGIA\, 11-17 JUNE 2017
DESCRIPTION:2017 European Senior Fencing Championships\nwill take place in Tbilisi\, Georgia from 11th to 17th June 2017. EFC congress will be held on 11th of June   during the championships. \nLive results as well video streaming from the 2017 European Senior Fencing Championships will be available through link: \nLive results and Video stream from 2017 European Senior Fencing Championships \, Tbilisi \, Georgia\n 
URL:http://mszag.com/news/event/european-senior-fencing-championships-2017-and-efc-congress-tbilisi-georgia-11-17-june-2017/
LOCATION:New Tbilisi Gymnastic Arena; Digomi\, Tbilisi\, Georgia\, Digomi\, Tbilisi\, 0177\, Georgia
CATEGORIES:Epee / Mač,FIE,Foil / Floret,GEORGIA,Sabre / Sablja
ATTACH;FMTTYPE=image/jpeg:http://mszag.com/news/wp-content/uploads/2017/04/tbilisi.jpg
ORGANIZER;CN="Fencing Federation of GEORGIA":MAILTO:office@geofencing.ge
END:VEVENT
BEGIN:VEVENT
DTSTART;VALUE=DATE:20170603
DTEND;VALUE=DATE:20170604
DTSTAMP:20260419T121815
CREATED:20170417T153549Z
LAST-MODIFIED:20170417T153549Z
UID:1403-1496448000-1496534399@mszag.com
SUMMARY:Splitsko ljeto / Kup Jadrana 2017 - Split summer / Adriatic Cup 2017 - 03.06.2017. - Split\,CRO
DESCRIPTION:Fencing club SPLIT takes great pleasure in inviting You to the epee fencing tournaments for young fencers : Split summer 2017 and Adriatic cup 2017. \nMačevalački klub Split poziva Vas na mačevalačke turnire u maču za mlađe natjecatelje: Splitsko ljeto 2017 i Kup Jadrana 2017. \nInvitation for Split summer 2017 and Adriatic Cup 2017 fencing tournaments in epee
URL:http://mszag.com/news/event/splitsko-ljeto-kup-jadrana-2017-split-summer-adriatic-cup-2017-03-06-2017-splitcro/
LOCATION:OSNOVNA ŠKOLA GRIPE\, Ul. Alojzija Stepinca 12\, Split\, 21000\, Croatia (Local Name: Hrvatska)
CATEGORIES:Croatian / Hrvatski,Epee / Mač
ATTACH;FMTTYPE=image/jpeg:http://mszag.com/news/wp-content/uploads/2017/04/splitskoljeto.jpg
ORGANIZER;CN="Ma%C4%8Devala%C4%8Dki klub Split":MAILTO:klub@split-macevanje.hr
END:VEVENT
BEGIN:VEVENT
DTSTART;VALUE=DATE:20170524
DTEND;VALUE=DATE:20170529
DTSTAMP:20260419T121815
CREATED:20170413T124502Z
LAST-MODIFIED:20170413T133324Z
UID:1375-1495584000-1496015999@mszag.com
SUMMARY:14th European Veterans Championships\,  Chiavari\, Italy – from 24 to 28 May 2017
DESCRIPTION:The 14th European Veterans Fencing Championships 2017 will take place in Chiavari at PALAZZETTO DELLO SPORT in San Pier di Canne in via per Maxena from 24th to 28th of May 2017. \nInvitation for  14th European Veterans Fencing Championships 2017 \nLive results and video from 14th European Veterans Fencing Championships 2017
URL:http://mszag.com/news/event/14th-european-veterans-championships-chiavari-italy-from-24-to-28-may-2017/
LOCATION:Sport Hall Massimo Carrino\, Case Sparse 5\,\, Chiavari\, 16043\, Italy
CATEGORIES:Epee / Mač,European championships,Foil / Floret,Italy,Sabre / Sablja,Veterans
ATTACH;FMTTYPE=image/jpeg:http://mszag.com/news/wp-content/uploads/2017/04/senior2017-1.jpg
ORGANIZER;CN="CHIAVARI SCHERMA a.s.d.":MAILTO:tecnico@europeanfencingmaster.eu
END:VEVENT
BEGIN:VEVENT
DTSTART;VALUE=DATE:20170523
DTEND;VALUE=DATE:20170524
DTSTAMP:20260419T121815
CREATED:20161117T151810Z
LAST-MODIFIED:20161117T151810Z
UID:1072-1495497600-1495583999@mszag.com
SUMMARY:8. kolo Zagrebačke lige u velikom maču
DESCRIPTION:U dvorani na zagrebačkom Velesajmu 23.05.2017. održati će se 8. kolo Zagrebačke lige u velikom maču\, te proglasiti najbolje\, te će im biti uručene nagrade. \nPrijave : 19:30 \nBrisanje: 19:45 \nPočetak: 20:00 \nPrijavnina je 25\,00 kn.
URL:http://mszag.com/news/event/8-kolo-zagrebacke-lige-u-velikom-macu/
LOCATION:Mačevalački centar MSZ-a Zagrebački Velesajam\, paviljon 25\, Avenija Dubrovnik 15\, Zagreb\, 10000\, Croatia (Local Name: Hrvatska)
CATEGORIES:Croatian / Hrvatski,Epee / Mač,Liga veliki mač MSZ
ATTACH;FMTTYPE=image/png:http://mszag.com/news/wp-content/uploads/2016/11/mszaglogo.png
END:VEVENT
BEGIN:VEVENT
DTSTART;VALUE=DATE:20170520
DTEND;VALUE=DATE:20170521
DTSTAMP:20260419T121815
CREATED:20170327T160817Z
LAST-MODIFIED:20170327T160817Z
UID:1326-1495238400-1495324799@mszag.com
SUMMARY:2. TURNIR ZA KAMNIŠKO SABLJO  - 2nd KAMNIK OPEN SABRE TOURNAMENT - 20.05.2017 - Kamnik\, SLO
DESCRIPTION:U Kamniku\, Slovenija\, 20.05.2017 održati će se  “2.turnir za Kamniško Sabljo” u sablji u svim natjecateljskim kategorijama. \nPropozicije za “2. TURNIR ZA KAMNIŠKO SABLJO” \nIn Kamnik\, Slovenia “2nd Kamnik open sabre” tournament will be held on 20th May 2017. Competition will be held in all sabre categories. \nInvitation for  “2.nd Kamnik open sabre” tournament
URL:http://mszag.com/news/event/2-turnir-za-kamnisko-sabljo-2nd-kamnik-open-sabre-tournament-20-05-2017-kamnik-slo/
LOCATION:OŠ Toma Brejca\, Šutna 39\, Kamnik\, 1241\, Slovenia
CATEGORIES:Sabre / Sablja,Slovenia
ATTACH;FMTTYPE=image/jpeg:http://mszag.com/news/wp-content/uploads/2017/03/kamnik.jpg
ORGANIZER;CN="Sabljanje Kamnik":MAILTO:sabljanje.kamnik@gmail.com
END:VEVENT
BEGIN:VEVENT
DTSTART;VALUE=DATE:20170516
DTEND;VALUE=DATE:20170517
DTSTAMP:20260419T121815
CREATED:20161117T155706Z
LAST-MODIFIED:20161117T155706Z
UID:1080-1494892800-1494979199@mszag.com
SUMMARY:5. kolo Zagrebačke lige u velikom floretu
DESCRIPTION:U dvorani na zagrebačkom Velesajmu 16.05.2017. održati će se 5. kolo Zagrebačke lige u velikom floretu\, te će se proglasiti najbolji mačevaoci \, a nakon toga će im biti uručene prigodne nagrade. \nPrijave : 19:30 \nBrisanje: 19:45 \nPočetak: 20:00 \nPrijavnina je 25\,00 kn.
URL:http://mszag.com/news/event/5-kolo-zagrebacke-lige-u-velikom-floretu/
LOCATION:Mačevalački centar MSZ-a Zagrebački Velesajam\, paviljon 25\, Avenija Dubrovnik 15\, Zagreb\, 10000\, Croatia (Local Name: Hrvatska)
ATTACH;FMTTYPE=image/png:http://mszag.com/news/wp-content/uploads/2016/11/mszaglogo.png
END:VEVENT
BEGIN:VEVENT
DTSTART;VALUE=DATE:20170514
DTEND;VALUE=DATE:20170515
DTSTAMP:20260419T121815
CREATED:20161118T180706Z
LAST-MODIFIED:20161118T180743Z
UID:1086-1494720000-1494806399@mszag.com
SUMMARY:6. kolo Zagrebačke lige u malom floretu
DESCRIPTION:U dvorani na zagrebačkom Velesajmu 14.05.2017. održati će se 6. kolo Zagrebačke lige u malom floretu\, na kojem će biti proglašeni pobjednici\, te uručene nagrade najboljima. \nPrijave : 08:15 \nBrisanje: 08:45 \nPočetak: 09:00 \nPrijavnina je 25\,00 kn. \nPRISTUP: Pristup mlađoj kategoriji imaju natjecatelji rođeni 2007.\, 2008. i 2009.\nPristup starijoj kategoriji imaju natjecatelji rođeni 2004.\, 2005. i 2006.
URL:http://mszag.com/news/event/6-kolo-zagrebacke-lige-u-malom-floretu/
LOCATION:Mačevalački centar MSZ-a Zagrebački Velesajam\, paviljon 25\, Avenija Dubrovnik 15\, Zagreb\, 10000\, Croatia (Local Name: Hrvatska)
CATEGORIES:Croatian / Hrvatski,Foil / Floret,Liga mali floret MSZ
ATTACH;FMTTYPE=image/png:http://mszag.com/news/wp-content/uploads/2016/11/mszaglogo.png
END:VEVENT
BEGIN:VEVENT
DTSTART;VALUE=DATE:20170513
DTEND;VALUE=DATE:20170514
DTSTAMP:20260419T121815
CREATED:20161118T180308Z
LAST-MODIFIED:20161118T180308Z
UID:1083-1494633600-1494719999@mszag.com
SUMMARY:6. kolo Zagrebačke lige u malom maču
DESCRIPTION:U dvorani na zagrebačkom Velesajmu 13.05.2017. održati će se 6. kolo Zagrebačke lige u malom maču\, nakon kojeg će biti proglašeni pobjednici \, te će im biti uručene nagrade. \nPrijave : 08:00 \nBrisanje: 08:30 \nPočetak: 09:00 \nPrijavnina je 25\,00 kn. \nPRISTUP: Pristup mlađoj kategoriji imaju natjecatelji rođeni 2007.\, 2008. i 2009.\nPristup starijoj kategoriji imaju natjecatelji rođeni 2004.\, 2005. i 2006.
URL:http://mszag.com/news/event/6-kolo-zagrebacke-lige-u-malom-macu/
LOCATION:Mačevalački centar MSZ-a Zagrebački Velesajam\, paviljon 25\, Avenija Dubrovnik 15\, Zagreb\, 10000\, Croatia (Local Name: Hrvatska)
CATEGORIES:Croatian / Hrvatski,Epee / Mač,Liga mali mač MSZ
ATTACH;FMTTYPE=image/png:http://mszag.com/news/wp-content/uploads/2016/11/mszaglogo.png
END:VEVENT
BEGIN:VEVENT
DTSTART;VALUE=DATE:20170512
DTEND;VALUE=DATE:20170515
DTSTAMP:20260419T121815
CREATED:20161116T124419Z
LAST-MODIFIED:20170414T114612Z
UID:962-1494547200-1494806399@mszag.com
SUMMARY:Olimpici Grand Prix 5. Csaba Kupa
DESCRIPTION:International epee tournament for younger categories “Olimpici Grand Prix 5. Csaba Kupa”  in men’s and women’s  categories will take place in Békéscsaba\, Hungary from  12th to 14th May 2017 \nInvitation for Olimpici Grand Prix 5. Csaba Kupa
URL:http://mszag.com/news/event/olimpici-grand-prix-5-csaba-kupa/
LOCATION:Békéscsabai Városi Sportcsarnok és Vívóterem\, Gyulai út\, Békéscsaba\, 5600\, Hungary
CATEGORIES:Epee / Mač,Hungary,Olimpici Grand Prix
ATTACH;FMTTYPE=image/gif:http://mszag.com/news/wp-content/uploads/2016/11/olimpici.gif
END:VEVENT
BEGIN:VEVENT
DTSTART;VALUE=DATE:20170507
DTEND;VALUE=DATE:20170508
DTSTAMP:20260419T121815
CREATED:20170417T163335Z
LAST-MODIFIED:20170417T163335Z
UID:1414-1494115200-1494201599@mszag.com
SUMMARY:Fulop  Mihaly - U14 Foil Tournament Dunaharaszti - 07.05.2017 - Dunaharaszti\, HUN
DESCRIPTION:Fulop  Mihaly – U14 Foil Tournament will be held in Dunaharaszti\, Hungary on 7th of May 2017. \nInvitation for Fulop  Mihaly – U14 Foil Tournament Dunaharaszti 
URL:http://mszag.com/news/event/fulop-mihaly-u14-foil-tournament-dunaharaszti-07-05-2017-dunaharaszti-hun/
LOCATION:Dunaharaszti Korosi Csoma Sandor Altalanos lskola\, Eotvos u. 52\, Dunaharaszti\, 2330\, Hungary
CATEGORIES:Foil / Floret,Hungary
ATTACH;FMTTYPE=image/bmp:http://mszag.com/news/wp-content/uploads/2016/11/fulop.bmp
ORGANIZER;CN="Szigetszentmiklosi Tor Egylet":MAILTO:flashing@pr.hu
END:VEVENT
BEGIN:VEVENT
DTSTART;VALUE=DATE:20170506
DTEND;VALUE=DATE:20170508
DTSTAMP:20260419T121815
CREATED:20170225T205419Z
LAST-MODIFIED:20170225T205440Z
UID:1231-1494028800-1494201599@mszag.com
SUMMARY:15. Alpen-Adria- Jugendfechtturnier - Klagenfurt\, Austria\, 06/07.05.2017
DESCRIPTION:Tradicionalni Alpen-Adria- Jugendfechtturnier 2017 \, turnir u floretu i maču\, biti će održan 06. i 07. 05.2017 u Klagenfurtu\, Austria. \nTraditional Alpen-Adria- Jugendfechtturnier 2017\, epee and foil tournament will be held in Klagenfurt\, Austria \, on 06th and 7th of May 2017. \nInvitation for Alpen-Adria- Jugendfechtturnier
URL:http://mszag.com/news/event/15-alpen-adria-jugendfechtturnier-klagenfurt-austria-0607-05-2017/
LOCATION:Messehalle 2\, Florian Gröger Str.\, Klagenfurt\, A-9020\, Austria
CATEGORIES:Austria,Epee / Mač,Foil / Floret
ATTACH;FMTTYPE=image/png:http://mszag.com/news/wp-content/uploads/2017/02/kac_logo.png
ORGANIZER;CN="KAC Fechten":MAILTO:ingomar.seebacher@gmx.at
END:VEVENT
BEGIN:VEVENT
DTSTART;VALUE=DATE:20170506
DTEND;VALUE=DATE:20170508
DTSTAMP:20260419T121815
CREATED:20161116T140813Z
LAST-MODIFIED:20170424T105002Z
UID:989-1494028800-1494201599@mszag.com
SUMMARY:13. trofej Novog Sada / 13th Novi  Sad Trophy
DESCRIPTION:International epee and foil tournament  “13. trofej Novog Sada / 13th Novi  Sad Trophy”  in men’s and women’s  categories will take place in Novi Sad\, Serbia  on 6th and 7th May 2017. \nInvitation for “13. trofej Novog Sada / 13th Novi  Sad Trophy”
URL:http://mszag.com/news/event/13-trofej-novog-sada-13th-novi-sad-trophy/
LOCATION:O.Š. “ Jožef Atila “\, Ulica Šarplaninska 28\, Novi Sad\, 21000\, Serbia
CATEGORIES:Epee / Mač,Foil / Floret,Sabre / Sablja,Serbia
ATTACH;FMTTYPE=image/png:http://mszag.com/news/wp-content/uploads/2016/11/novisad.png
END:VEVENT
BEGIN:VEVENT
DTSTART;VALUE=DATE:20170505
DTEND;VALUE=DATE:20170508
DTSTAMP:20260419T121815
CREATED:20161117T142002Z
LAST-MODIFIED:20170421T191953Z
UID:1035-1493942400-1494201599@mszag.com
SUMMARY:Prvenstvo Hrvatske u maču 2017
DESCRIPTION:Prvenstvo Hrvatske u maču \, u svim kategorijama\, pojedinačno i ekipno\, u muškoj i ženskoj konkurenciji održati će se od 5. do 7. 05. 2017. godine \nPropozicije za prvenstvo Hrvatske u maču 2017
URL:http://mszag.com/news/event/prvenstvo-hrvatske-u-macu-2017/
LOCATION:OŠ Petar Zrinski\, Krajiška 9\, Zagreb\, 10000\, Croatia (Local Name: Hrvatska)
CATEGORIES:Croatian / Hrvatski,Epee / Mač
ATTACH;FMTTYPE=image/png:http://mszag.com/news/wp-content/uploads/2016/11/hmslogo.png
END:VEVENT
BEGIN:VEVENT
DTSTART;VALUE=DATE:20170429
DTEND;VALUE=DATE:20170501
DTSTAMP:20260419T121815
CREATED:20161117T142533Z
LAST-MODIFIED:20170413T175800Z
UID:1038-1493424000-1493596799@mszag.com
SUMMARY:Prvenstvo Hrvatske u sablji 2017 - 29-30.04.2017 - Zagreb\, CRO
DESCRIPTION:Prvenstvo Hrvatske u sablji \,  pojedinačno i ekipno\, u muškoj i ženskoj konkurenciji održati će se od 29. do 30. 04. 2017. godine u dvorani na zagrebačkom Velesajmu. \nPropozicije za prvenstvo Hrvatske 2017 u sablji
URL:http://mszag.com/news/event/prvenstvo-hrvatske-u-sablji-2017/
LOCATION:Mačevalački centar MSZ-a Zagrebački Velesajam\, paviljon 25\, Avenija Dubrovnik 15\, Zagreb\, 10000\, Croatia (Local Name: Hrvatska)
CATEGORIES:Croatian / Hrvatski,Sabre / Sablja
ATTACH;FMTTYPE=image/png:http://mszag.com/news/wp-content/uploads/2016/11/hmslogo.png
END:VEVENT
BEGIN:VEVENT
DTSTART;VALUE=DATE:20170428
DTEND;VALUE=DATE:20170501
DTSTAMP:20260419T121815
CREATED:20161117T141621Z
LAST-MODIFIED:20170413T173951Z
UID:1030-1493337600-1493596799@mszag.com
SUMMARY:Prvenstvo Hrvatske u floretu 2017 - 28-30.04.2017. - Zagreb\, CRO
DESCRIPTION:Prvenstvo Hrvatske u floretu \, u svim kategorijama\, pojedinačno i ekipno\, u muškoj i ženskoj konkurenciji održati će se od 28. do 30. 04. 2017. godine u dvorani na zagrebačkom Velesajmu. \nPropozicije za prvenstvo Hrvatske 2017 u floretu
URL:http://mszag.com/news/event/prvenstvo-hrvatske-u-floretu-2017/
LOCATION:Mačevalački centar MSZ-a Zagrebački Velesajam\, paviljon 25\, Avenija Dubrovnik 15\, Zagreb\, 10000\, Croatia (Local Name: Hrvatska)
CATEGORIES:Croatian / Hrvatski,Foil / Floret
ATTACH;FMTTYPE=image/png:http://mszag.com/news/wp-content/uploads/2016/11/hmslogo.png
END:VEVENT
BEGIN:VEVENT
DTSTART;VALUE=DATE:20170422
DTEND;VALUE=DATE:20170423
DTSTAMP:20260419T121815
CREATED:20170417T161722Z
LAST-MODIFIED:20170417T161722Z
UID:1409-1492819200-1492905599@mszag.com
SUMMARY:VIII. HIPER KUPA - Epee tournament - 22.04.2017. - Budapest\, HUN
DESCRIPTION:VIII. Hiper cup\, epee tournament will be held in Budapest\, Hungary on 22.04.2017. \nInvitation for VIII. HIPER KUPA\nA Hiperaktív Sportegyesület törpici\, újonc- és kadet korosztályban leány- és fiú párbajtőr versenyt rendez
URL:http://mszag.com/news/event/viii-hiper-kupa-epee-tournament-22-04-2017-budapest-hun/
LOCATION:Gyermekház Iskola\, Árpád út 161-163\, Budapest\, 1045\, Hungary
CATEGORIES:Epee / Mač,Hungary
ATTACH;FMTTYPE=image/jpeg:http://mszag.com/news/wp-content/uploads/2017/04/hiperkupa2015.jpg
ORGANIZER;CN="Hiperakt%C3%ADv Sportegyes%C3%BClet":MAILTO:hiperse@gmail.com
END:VEVENT
BEGIN:VEVENT
DTSTART;VALUE=DATE:20170422
DTEND;VALUE=DATE:20170424
DTSTAMP:20260419T121815
CREATED:20170414T120346Z
LAST-MODIFIED:20170414T120346Z
UID:1399-1492819200-1492991999@mszag.com
SUMMARY:Fülöp Mihály Magyar Kupa Gyermek Országos Bajnokság - 22/23.04.2017 - Hódmezővásárhely\, HUN
DESCRIPTION:Fülöp Mihály Magyar Kupa foil tournament will be held in Hódmezővásárhely\, Hungary on 22nd and 23rd of April 2017 \nInvitation for Fülöp Mihály Magyar Kupa Gyermek Országos Bajnokság
URL:http://mszag.com/news/event/fulop-mihaly-magyar-kupa-gyermek-orszagos-bajnoksag-2223-04-2017-hodmezovasarhely-hun/
LOCATION:Vásárhelyi Vívócentrum\, Dr.Rapcsák András út 28.\, Hódmezővásárhely\, 6800\, Hungary
CATEGORIES:Foil / Floret,Hungary
ATTACH;FMTTYPE=image/bmp:http://mszag.com/news/wp-content/uploads/2016/11/fulop.bmp
ORGANIZER;CN="H%C3%B3dmez%C5%91v%C3%A1s%C3%A1rhelyi Csomork%C3%A1ny SE.":MAILTO:agnesmagyary@gmail.com
END:VEVENT
BEGIN:VEVENT
DTSTART;VALUE=DATE:20170422
DTEND;VALUE=DATE:20170423
DTSTAMP:20260419T121815
CREATED:20170327T171256Z
LAST-MODIFIED:20170327T171702Z
UID:1344-1492819200-1492905599@mszag.com
SUMMARY:5. kolo male floret lige Mačevalačkog Saveza Zagreba - 22.04.2017 - Zagreb\,CRO
DESCRIPTION:U dvorani na zagrebačkom Velesajmu 22.04.2017. održati će se 5. kolo Zagrebačke lige u malom floretu. \nPrijave : 08:15 \nBrisanje: 08:45 \nPočetak: 09:00 \nPrijavnina je 25\,00 kn. \nPRISTUP: Pristup mlađoj kategoriji imaju natjecatelji rođeni 2007.\, 2008. i 2009.\nPristup starijoj kategoriji imaju natjecatelji rođeni 2004.\, 2005. i 2006.
URL:http://mszag.com/news/event/5-kolo-male-floret-lige-macevalackog-saveza-zagreba-22-04-2017-zagrebcro/
LOCATION:Mačevalački centar MSZ-a Zagrebački Velesajam\, paviljon 25\, Avenija Dubrovnik 15\, Zagreb\, 10000\, Croatia (Local Name: Hrvatska)
CATEGORIES:Liga mali floret MSZ
ATTACH;FMTTYPE=image/png:http://mszag.com/news/wp-content/uploads/2016/11/mszaglogo.png
END:VEVENT
BEGIN:VEVENT
DTSTART;VALUE=DATE:20170421
DTEND;VALUE=DATE:20170426
DTSTAMP:20260419T121815
CREATED:20170413T113927Z
LAST-MODIFIED:20170413T113927Z
UID:1367-1492732800-1493164799@mszag.com
SUMMARY:10th EUROPEAN U23 FENCING CHAMPIONSHIPS - Minsk (Belarus)\, 21-25 April 2017
DESCRIPTION:10th EUROPEAN U23 FENCING CHAMPIONSHIPS in foil \, epee and sabre will be held in Minsk\, Belarus from 21st to 25th of April 2017. \nInvitation and programme for 10th EUROPEAN U23 FENCING CHAMPIONSHIPS\, Minsk\, Belarus \nLive results and video from 10th EUROPEAN U23 FENCING CHAMPIONSHIPS\, Minsk\, Belarus \n 
URL:http://mszag.com/news/event/10th-european-u23-fencing-championships-minsk-belarus-21-25-april-2017/
LOCATION:Minsk Sports Palace\, pr. Pobediteley 4\, Minsk\, 220007\, Belarus
CATEGORIES:Belarus,Epee / Mač,European championships,FIE,Foil / Floret,Sabre / Sablja
ATTACH;FMTTYPE=image/png:http://mszag.com/news/wp-content/uploads/2017/04/minsk2017.png
ORGANIZER;CN="Belarusian Fencing Federation":MAILTO:info@fencing.by
END:VEVENT
BEGIN:VEVENT
DTSTART;VALUE=DATE:20170418
DTEND;VALUE=DATE:20170419
DTSTAMP:20260419T121815
CREATED:20161117T151529Z
LAST-MODIFIED:20170410T190525Z
UID:1070-1492473600-1492559999@mszag.com
SUMMARY:6. kolo Zagrebačke lige u velikom maču
DESCRIPTION:U dvorani na zagrebačkom Velesajmu 18.04.2017. održati će se 6. kolo Zagrebačke lige u velikom maču. \nPrijave : 19:30 \nBrisanje: 19:45 \nPočetak: 20:00 \nPrijavnina je 25\,00 kn.
URL:http://mszag.com/news/event/7-kolo-zagrebacke-lige-u-velikom-macu/
LOCATION:Mačevalački centar MSZ-a Zagrebački Velesajam\, paviljon 25\, Avenija Dubrovnik 15\, Zagreb\, 10000\, Croatia (Local Name: Hrvatska)
CATEGORIES:Croatian / Hrvatski,Epee / Mač,Liga veliki mač MSZ
ATTACH;FMTTYPE=image/png:http://mszag.com/news/wp-content/uploads/2016/11/mszaglogo.png
END:VEVENT
BEGIN:VEVENT
DTSTART;VALUE=DATE:20170415
DTEND;VALUE=DATE:20170416
DTSTAMP:20260419T121815
CREATED:20170327T162444Z
LAST-MODIFIED:20170327T182037Z
UID:1331-1492214400-1492300799@mszag.com
SUMMARY:4. turnir Ljubljane – The 4th Ljubljana Cup - 15.04.2017 - Ljubljana\, SLO
DESCRIPTION:U Ljubljani\, Slovenija \, 15.04.2017 će se održati “4. turnir Ljubljane” u mačevanju. Natjecanje će se odvijati u svim starosnim kategorijama. \nPropozicije za “4. turnir Ljubljane” \nIn Ljubljana\, Slovenia\, “4th Ljubljana Cup” will be held on 15th April 2017. Competition will be held in epee\, in all age categories. \nInvitation for “4th Ljubljana Cup in fencing”
URL:http://mszag.com/news/event/4-turnir-ljubljane-the-4th-ljubljana-cup-15-04-2017-ljubljana-slo/
LOCATION:Športni center Dolgi Most\, Dolgi most 6a\, Ljubljana\, 1000\, Slovenia
CATEGORIES:Epee / Mač,Slovenia
ATTACH;FMTTYPE=image/png:http://mszag.com/news/wp-content/uploads/2017/03/ljubljanalogo.png
ORGANIZER;CN="Sablja%C5%A1ki klub Ljubljana":MAILTO:sabljanjeljubljana@gmail.com
END:VEVENT
BEGIN:VEVENT
DTSTART;VALUE=DATE:20170408
DTEND;VALUE=DATE:20170410
DTSTAMP:20260419T121815
CREATED:20170225T203856Z
LAST-MODIFIED:20170327T181212Z
UID:1226-1491609600-1491782399@mszag.com
SUMMARY:Internationaler Auer von Welsbach Jugendcup 2017 - Althofen - 08.04.2017
DESCRIPTION:Tradicionalni Internationaler Auer von Welsbach Jugendcup 2017 \, turnir u floretu i maču\, biti će održan 08. i 09. 04.2017 u Althofenu \, Austria \nTraditional Internationaler Auer von Welsbach Jugendcup 2017\, epee and foil tournament will be held in Althofen\, Austria \, on 08th and 9th of April 2017. \nInvitation for Internationaler Auer von Welsbach Jugendcup 2017 
URL:http://mszag.com/news/event/internationaler-auer-von-welsbach-jugendcup-2017-althofen-08-04-2017/
LOCATION:Bundesschulzentrum Althofen\, Friesacherstraße 4\, Althofen\, A-9330\, Austria
CATEGORIES:Austria,Epee / Mač,Foil / Floret
ATTACH;FMTTYPE=image/jpeg:http://mszag.com/news/wp-content/uploads/2017/02/treibach.jpg
ORGANIZER;CN="Fechtclub Treibach Althofen":MAILTO:fct@althofen.at
END:VEVENT
BEGIN:VEVENT
DTSTART;VALUE=DATE:20170401
DTEND;VALUE=DATE:20170411
DTSTAMP:20260419T121815
CREATED:20170225T213816Z
LAST-MODIFIED:20170316T143931Z
UID:1249-1491004800-1491868799@mszag.com
SUMMARY:World Cadet and Junior Fencing Championships 2017 Plovdiv (Bulgaria) 01 April - 10 April 2017
DESCRIPTION:The World Cadet and Junior Fencing Championships will be organized by the Bulgarian Fencing Federation from 1st of April until 10th of April 2017 with the support of the Organizing Committee for World cadets and juniors Fencing Championships and the mayor of the Town of Plovdiv\, under the auspices and authority of the International Fencing Federation (F.I.E.).
URL:http://mszag.com/news/event/world-cadet-and-junior-championships-2017-plovdiv-bulgaria-01-april-10-april-2017/
LOCATION:International Fair Plovdiv\, Pavilion 8\, Plovdiv\, Bulgaria
CATEGORIES:Bulgaria,EFC/ECC,Epee / Mač,FIE,Foil / Floret,Sabre / Sablja
ATTACH;FMTTYPE=image/png:http://mszag.com/news/wp-content/uploads/2017/02/plovdivworld.png
ORGANIZER;CN="Bulgarian Fencing Federation":MAILTO:bulfencing@gmail.com
END:VEVENT
BEGIN:VEVENT
DTSTART;VALUE=DATE:20170330
DTEND;VALUE=DATE:20170331
DTSTAMP:20260419T121815
CREATED:20170327T165531Z
LAST-MODIFIED:20170327T165930Z
UID:1337-1490832000-1490918399@mszag.com
SUMMARY:5. kolo male mač lige Mačevalačkog saveza Zagreba - 30.03.2017 - Zagreb\, CRO
DESCRIPTION:ORGANIZATOR: Mačevalački savez Zagreba\nMJESTO: Srebrna dvorana\nDom sportova\nDATUM: četvrtak\, 30. 3.2017.\nPRISTUP: Pristup mlađoj kategoriji kategorija do 10 godina – rođeni 2007.\,2008.\, 2009. godine\nPristup starijoj kategoriji kategorija do 13 godina – rođeni 2004.\, 2005.\, 2006. godine;\nSATNICA\nPrijave\n18:00\nBrisanje\n18:15\nPočetak\n18:30\nMolimo sve natjecatelje da se pridržavaju gore zadane satnice. Hvala!\nPRIJAVNINA: 25 kn\nSUĐENJE: sude treneri\, suci pripravnici te osobe određene od organizatora\nNAPOMENA: Molimo sve sudionike i njihove roditelje da ponesu liječničku potvrdu jer u nedostatku iste sportaš neće moći sudjelovati u natjecanju.\nDjeca do 10 godina – oštrica 0.\nDjeca do 13 godina – oštrice 0\, 2 ili 5
URL:http://mszag.com/news/event/5-kolo-male-mac-lige-macevalackog-saveza-zagreba-30-03-2017-zagreb-cro/
LOCATION:Srebrna dvorana Doma Sportova\, Trg Krešimira Ćosića 11\, Zagreb\, 10000\, Croatia (Local Name: Hrvatska)
CATEGORIES:Liga mali mač MSZ
ATTACH;FMTTYPE=image/png:http://mszag.com/news/wp-content/uploads/2016/11/mszaglogo.png
END:VEVENT
BEGIN:VEVENT
DTSTART;VALUE=DATE:20170325
DTEND;VALUE=DATE:20170326
DTSTAMP:20260419T121815
CREATED:20170225T202307Z
LAST-MODIFIED:20170225T202307Z
UID:1221-1490400000-1490486399@mszag.com
SUMMARY:2. KUP GRADA OSIJEKA 2017 / 2nd Osijek Fencing Cup 2017 - Mač / Epee - 25.03.2017
DESCRIPTION:Međunarodni turnir u maču 2. Kup grada Osijeka održati će se u Osijeku 25.03.2017 \nInternational epee tournament 2nd Osijek fencing cup will be held in Osijek on 25th of March 2017. \nInvitation for 2. KUP GRADA OSIJEKA 2017 / 2nd Osijek Fencing Cup 2017 
URL:http://mszag.com/news/event/2-kup-grada-osijeka-2017-2nd-osijek-fencing-cup-2017-mac-epee-25-03-2017/
LOCATION:Sportska dvorana JUG\, Kralja Petra Svačića bb\, Osijek\, 31000\, Croatia (Local Name: Hrvatska)
CATEGORIES:Croatian / Hrvatski,EFC-U14,Epee / Mač
ATTACH;FMTTYPE=image/png:http://mszag.com/news/wp-content/uploads/2017/02/mkdzo.png
ORGANIZER;CN="MA%C4%8CEVALA%C4%8CKI KLUB %E2%80%93 FENCING CLUB Dmitar Zvonimir Osijek":MAILTO:d.zvonimir.os@gmail.com
END:VEVENT
BEGIN:VEVENT
DTSTART;VALUE=DATE:20170323
DTEND;VALUE=DATE:20170328
DTSTAMP:20260419T121815
CREATED:20161116T205511Z
LAST-MODIFIED:20170316T144106Z
UID:1025-1490227200-1490659199@mszag.com
SUMMARY:40th International Children’s Fencing Tournament Challenge Wratislavia
DESCRIPTION:International  “40th International Children’s Fencing Tournament Challenge Wratislavia”  foil\, epee and sabre tournament in men’s and women’s categories will take place in Wroclaw\, Poland from 23rd to 27th March 2017. \nInvitation for “40th International Children’s Fencing Tournament Challenge Wratislavia”
URL:http://mszag.com/news/event/40th-international-childrens-fencing-tournament-challenge-wratislavia/
LOCATION:Sport’s Hall ORBITA\, 2 Wejherowska Str.\, Wroclaw\,  50-001\, Poland
CATEGORIES:Epee / Mač,Foil / Floret,Poland,Sabre / Sablja
ATTACH;FMTTYPE=image/png:http://mszag.com/news/wp-content/uploads/2016/11/wroclaw.png
END:VEVENT
BEGIN:VEVENT
DTSTART;VALUE=DATE:20170321
DTEND;VALUE=DATE:20170322
DTSTAMP:20260419T121815
CREATED:20161117T151257Z
LAST-MODIFIED:20161117T151257Z
UID:1067-1490054400-1490140799@mszag.com
SUMMARY:6. kolo Zagrebačke lige u velikom maču
DESCRIPTION:U dvorani na zagrebačkom Velesajmu 21.03.2017. održati će se 6. kolo Zagrebačke lige u velikom maču. \nPrijave : 19:30 \nBrisanje: 19:45 \nPočetak: 20:00 \nPrijavnina je 25\,00 kn.
URL:http://mszag.com/news/event/6-kolo-zagrebacke-lige-u-velikom-macu/
LOCATION:Mačevalački centar MSZ-a Zagrebački Velesajam\, paviljon 25\, Avenija Dubrovnik 15\, Zagreb\, 10000\, Croatia (Local Name: Hrvatska)
CATEGORIES:Croatian / Hrvatski,Epee / Mač,Liga veliki mač MSZ
ATTACH;FMTTYPE=image/png:http://mszag.com/news/wp-content/uploads/2016/11/mszaglogo.png
END:VEVENT
BEGIN:VEVENT
DTSTART;VALUE=DATE:20170319
DTEND;VALUE=DATE:20170320
DTSTAMP:20260419T121815
CREATED:20161116T135636Z
LAST-MODIFIED:20170225T200734Z
UID:984-1489881600-1489967999@mszag.com
SUMMARY:Uskršnji turnir / Easter Trophy
DESCRIPTION:International epee and foil tournament  “Uskršnji turnir / Easter Trophy”  in men’s and women’s  categories will take place in Zrenjanin\, Serbia  on  19th March 2017. \nInvitation for “Uskršnji turnir / Easter Trophy”
URL:http://mszag.com/news/event/uskrsnji-turnir-easter-trophy/
LOCATION:Hala sportova „Medison“\, Karađorđev trg\, Zrenjanin\, 23000\, Serbia
CATEGORIES:Epee / Mač,Foil / Floret,Serbia
ATTACH;FMTTYPE=image/bmp:http://mszag.com/news/wp-content/uploads/2016/11/uskrsnji.bmp
END:VEVENT
END:VCALENDAR